BEGIN:VCALENDAR
VERSION:2.0
PRODID:-//The River Church - ECPv4.9.10//NONSGML v1.0//EN
CALSCALE:GREGORIAN
METHOD:PUBLISH
X-WR-CALNAME:The River Church
X-ORIGINAL-URL:https://theriver.org.nz
X-WR-CALDESC:Events for The River Church
BEGIN:VTIMEZONE
TZID:Pacific/Auckland
BEGIN:STANDARD
TZOFFSETFROM:+1300
TZOFFSETTO:+1200
TZNAME:NZST
DTSTART:20190406T140000
END:STANDARD
BEGIN:DAYLIGHT
TZOFFSETFROM:+1200
TZOFFSETTO:+1300
TZNAME:NZDT
DTSTART:20190928T140000
END:DAYLIGHT
END:VTIMEZONE
BEGIN:VEVENT
DTSTART;TZID=Pacific/Auckland:20191224T190000
DTEND;TZID=Pacific/Auckland:20191224T203000
DTSTAMP:20191215T133928
CREATED:20191031T000332Z
LAST-MODIFIED:20191208T205000Z
UID:6457-1577214000-1577219400@theriver.org.nz
SUMMARY:Christmas Eve
DESCRIPTION:We are excited for this special Christmas Eve service! Everyone is welcome so bring along all your friends and family! \nFollow the journey of a young girl who can’t understand why mum and dad want her to think beyond just wanting presents at this time of year. Some unlikely visitors turn up\, determined to help her find Christmas. \nHer story weaves in and out of interactive fun and activities\, sing along Christmas carols and an inspiring Christmas message. \nStick around after the service for some yummy Christmas mince pies! \n 
URL:https://theriver.org.nz/event/christmas-eve/
LOCATION:River Christian Church\, 69 Ben Lomond Crescent\, Pakuranga Heights\, Auckland\, 2010\, New Zealand
CATEGORIES:The River - Pakuranga,The River - Pukekohe
ATTACH;FMTTYPE=image/jpeg:https://theriver.org.nz/wp-content/uploads/2019/10/Christmas-billboard-proof1.jpg
END:VEVENT
END:VCALENDAR